BEGIN:VCALENDAR
VERSION:2.0
PRODID:-//Hidden - ECPv6.15.14//NONSGML v1.0//EN
CALSCALE:GREGORIAN
METHOD:PUBLISH
X-WR-CALNAME:Hidden
X-ORIGINAL-URL:https://hiddenbrasil.com.br
X-WR-CALDESC:Eventos para Hidden
REFRESH-INTERVAL;VALUE=DURATION:PT1H
X-Robots-Tag:noindex
X-PUBLISHED-TTL:PT1H
BEGIN:VTIMEZONE
TZID:America/Sao_Paulo
BEGIN:STANDARD
TZOFFSETFROM:-0300
TZOFFSETTO:-0300
TZNAME:-03
DTSTART:20240101T000000
END:STANDARD
END:VTIMEZONE
BEGIN:VEVENT
DTSTART;TZID=America/Sao_Paulo:20260130T190000
DTEND;TZID=America/Sao_Paulo:20260130T235900
DTSTAMP:20260421T092311
CREATED:20251223T142512Z
LAST-MODIFIED:20251223T142512Z
UID:10170-1769799600-1769817540@hiddenbrasil.com.br
SUMMARY:Sambaiana
DESCRIPTION:
URL:https://hiddenbrasil.com.br/evento/sambaiana/
LOCATION:Casa Verão Hidden\, Rua Chile\, 7\, Salvador\, Bahia\, 40020-000\, Brazil
ATTACH;FMTTYPE=image/jpeg:https://hiddenbrasil.com.br/wp-content/uploads/2025/12/sambaiana_30_jan.jpg
END:VEVENT
BEGIN:VEVENT
DTSTART;TZID=America/Sao_Paulo:20260123T190000
DTEND;TZID=America/Sao_Paulo:20260123T235900
DTSTAMP:20260421T092311
CREATED:20251223T142208Z
LAST-MODIFIED:20260119T154409Z
UID:10166-1769194800-1769212740@hiddenbrasil.com.br
SUMMARY:Samba do Serrado
DESCRIPTION:
URL:https://hiddenbrasil.com.br/evento/samba-do-serrado/
LOCATION:Casa Verão Hidden\, Rua Chile\, 7\, Salvador\, Bahia\, 40020-000\, Brazil
ATTACH;FMTTYPE=image/jpeg:https://hiddenbrasil.com.br/wp-content/uploads/2025/12/serrado_23_jan.jpg
END:VEVENT
BEGIN:VEVENT
DTSTART;TZID=America/Sao_Paulo:20260116T190000
DTEND;TZID=America/Sao_Paulo:20260116T235900
DTSTAMP:20260421T092311
CREATED:20251221T013753Z
LAST-MODIFIED:20260113T135414Z
UID:10116-1768590000-1768607940@hiddenbrasil.com.br
SUMMARY:Lucio Mauro Filho e Faustão
DESCRIPTION:
URL:https://hiddenbrasil.com.br/evento/lucio-mauro-filho-e-faustao/
LOCATION:Casa Verão Hidden\, Rua Chile\, 7\, Salvador\, Bahia\, 40020-000\, Brazil
ATTACH;FMTTYPE=image/jpeg:https://hiddenbrasil.com.br/wp-content/uploads/2025/12/lucio_faust_16_jan.jpg
END:VEVENT
BEGIN:VEVENT
DTSTART;TZID=America/Sao_Paulo:20260115T120000
DTEND;TZID=America/Sao_Paulo:20260115T200000
DTSTAMP:20260421T092311
CREATED:20251221T012920Z
LAST-MODIFIED:20260109T110308Z
UID:10108-1768478400-1768507200@hiddenbrasil.com.br
SUMMARY:Feijoada de Bonfim com Pierre Onassis
DESCRIPTION:
URL:https://hiddenbrasil.com.br/evento/feijoada-de-bonfim/
LOCATION:Casa Verão Hidden\, Rua Chile\, 7\, Salvador\, Bahia\, 40020-000\, Brazil
ATTACH;FMTTYPE=image/jpeg:https://hiddenbrasil.com.br/wp-content/uploads/2025/12/feijoada_15_jan.jpg
END:VEVENT
BEGIN:VEVENT
DTSTART;TZID=America/Sao_Paulo:20260109T190000
DTEND;TZID=America/Sao_Paulo:20260109T235900
DTSTAMP:20260421T092311
CREATED:20251221T011639Z
LAST-MODIFIED:20251221T011639Z
UID:10098-1767985200-1768003140@hiddenbrasil.com.br
SUMMARY:ABOCA
DESCRIPTION:
URL:https://hiddenbrasil.com.br/evento/aboca-3/
LOCATION:Casa Verão Hidden\, Rua Chile\, 7\, Salvador\, Bahia\, 40020-000\, Brazil
ATTACH;FMTTYPE=image/jpeg:https://hiddenbrasil.com.br/wp-content/uploads/2025/12/aboca_9_jan.jpg
END:VEVENT
BEGIN:VEVENT
DTSTART;TZID=America/Sao_Paulo:20251219T190000
DTEND;TZID=America/Sao_Paulo:20251219T235900
DTSTAMP:20260421T092311
CREATED:20251126T141933Z
LAST-MODIFIED:20260210T205155Z
UID:8822-1766170800-1766188740@hiddenbrasil.com.br
SUMMARY:ABOCA
DESCRIPTION:
URL:https://hiddenbrasil.com.br/evento/aboca-2/
LOCATION:Casa Verão Hidden\, Rua Chile\, 7\, Salvador\, Bahia\, 40020-000\, Brazil
ATTACH;FMTTYPE=image/jpeg:https://hiddenbrasil.com.br/wp-content/uploads/2025/11/Banner_aboca.jpg
END:VEVENT
BEGIN:VEVENT
DTSTART;TZID=America/Sao_Paulo:20251218T160000
DTEND;TZID=America/Sao_Paulo:20251218T235900
DTSTAMP:20260421T092311
CREATED:20251126T141908Z
LAST-MODIFIED:20251126T141908Z
UID:8827-1766073600-1766102340@hiddenbrasil.com.br
SUMMARY:Alexandre Peixe
DESCRIPTION:
URL:https://hiddenbrasil.com.br/evento/alexandre-peixe-2/
LOCATION:Casa Verão Hidden\, Rua Chile\, 7\, Salvador\, Bahia\, 40020-000\, Brazil
ATTACH;FMTTYPE=image/jpeg:https://hiddenbrasil.com.br/wp-content/uploads/2025/11/Banner_alexandre_peixe.jpg
END:VEVENT
BEGIN:VEVENT
DTSTART;TZID=America/Sao_Paulo:20251213T190000
DTEND;TZID=America/Sao_Paulo:20251213T235900
DTSTAMP:20260421T092311
CREATED:20251202T204936Z
LAST-MODIFIED:20251202T204936Z
UID:9188-1765652400-1765670340@hiddenbrasil.com.br
SUMMARY:Suco de Bahia
DESCRIPTION:
URL:https://hiddenbrasil.com.br/evento/suco-de-bahia-2/
LOCATION:Casa Verão Hidden\, Rua Chile\, 7\, Salvador\, Bahia\, 40020-000\, Brazil
ATTACH;FMTTYPE=image/jpeg:https://hiddenbrasil.com.br/wp-content/uploads/2025/12/Banner_suco.jpg
END:VEVENT
BEGIN:VEVENT
DTSTART;TZID=America/Sao_Paulo:20251212T190000
DTEND;TZID=America/Sao_Paulo:20251212T235900
DTSTAMP:20260421T092311
CREATED:20251126T140959Z
LAST-MODIFIED:20251126T172716Z
UID:8818-1765566000-1765583940@hiddenbrasil.com.br
SUMMARY:Faustão e Marcio Mello
DESCRIPTION:
URL:https://hiddenbrasil.com.br/evento/faustao-e-marcio-melo/
LOCATION:Casa Verão Hidden\, Rua Chile\, 7\, Salvador\, Bahia\, 40020-000\, Brazil
ATTACH;FMTTYPE=image/jpeg:https://hiddenbrasil.com.br/wp-content/uploads/2025/11/IMG_9287.jpg
END:VEVENT
BEGIN:VEVENT
DTSTART;TZID=America/Sao_Paulo:20251206T190000
DTEND;TZID=America/Sao_Paulo:20251206T235900
DTSTAMP:20260421T092311
CREATED:20251126T140320Z
LAST-MODIFIED:20260210T204854Z
UID:8805-1765047600-1765065540@hiddenbrasil.com.br
SUMMARY:Sofia Pitta
DESCRIPTION:
URL:https://hiddenbrasil.com.br/evento/sofia-pitta/
LOCATION:Casa Verão Hidden\, Rua Chile\, 7\, Salvador\, Bahia\, 40020-000\, Brazil
ATTACH;FMTTYPE=image/jpeg:https://hiddenbrasil.com.br/wp-content/uploads/2025/11/Banner_sofia_pitta.jpg
END:VEVENT
BEGIN:VEVENT
DTSTART;TZID=America/Sao_Paulo:20251129T170000
DTEND;TZID=America/Sao_Paulo:20251129T235900
DTSTAMP:20260421T092311
CREATED:20251008T141555Z
LAST-MODIFIED:20251028T140109Z
UID:6982-1764435600-1764460740@hiddenbrasil.com.br
SUMMARY:Suco de Bahia
DESCRIPTION:
URL:https://hiddenbrasil.com.br/evento/suco-de-bahia/
LOCATION:Casa Verão Hidden\, Rua Chile\, 7\, Salvador\, Bahia\, 40020-000\, Brazil
ATTACH;FMTTYPE=image/webp:https://hiddenbrasil.com.br/wp-content/uploads/2025/10/Banner__suco_bahia-1.jpg
END:VEVENT
BEGIN:VEVENT
DTSTART;TZID=America/Sao_Paulo:20251128T190000
DTEND;TZID=America/Sao_Paulo:20251128T235900
DTSTAMP:20260421T092311
CREATED:20251008T065529Z
LAST-MODIFIED:20251028T140009Z
UID:6945-1764356400-1764374340@hiddenbrasil.com.br
SUMMARY:ABOCA
DESCRIPTION:
URL:https://hiddenbrasil.com.br/evento/aboca/
LOCATION:Casa Verão Hidden\, Rua Chile\, 7\, Salvador\, Bahia\, 40020-000\, Brazil
ATTACH;FMTTYPE=image/webp:https://hiddenbrasil.com.br/wp-content/uploads/2025/10/Banner_aboca1.jpg
END:VEVENT
BEGIN:VEVENT
DTSTART;TZID=America/Sao_Paulo:20251121T190000
DTEND;TZID=America/Sao_Paulo:20251121T235900
DTSTAMP:20260421T092311
CREATED:20251008T050442Z
LAST-MODIFIED:20251119T161411Z
UID:6935-1763751600-1763769540@hiddenbrasil.com.br
SUMMARY:Alexandre Peixe
DESCRIPTION:
URL:https://hiddenbrasil.com.br/evento/alexandre-peixe/
LOCATION:Casa Verão Hidden\, Rua Chile\, 7\, Salvador\, Bahia\, 40020-000\, Brazil
ATTACH;FMTTYPE=image/webp:https://hiddenbrasil.com.br/wp-content/uploads/2025/10/Banner_alexandre_peixe-1.jpg
END:VEVENT
BEGIN:VEVENT
DTSTART;TZID=America/Sao_Paulo:20251115T170000
DTEND;TZID=America/Sao_Paulo:20251115T235900
DTSTAMP:20260421T092311
CREATED:20251008T035959Z
LAST-MODIFIED:20251028T135844Z
UID:6870-1763226000-1763251140@hiddenbrasil.com.br
SUMMARY:Tiri
DESCRIPTION:
URL:https://hiddenbrasil.com.br/evento/tiri/
LOCATION:Casa Verão Hidden\, Rua Chile\, 7\, Salvador\, Bahia\, 40020-000\, Brazil
ATTACH;FMTTYPE=image/jpeg:https://hiddenbrasil.com.br/wp-content/uploads/2025/10/WhatsApp-Image-2025-10-08-at-19.18.41.jpeg
END:VEVENT
END:VCALENDAR